BEGIN:VCALENDAR
VERSION:2.0
PRODID:-//hacksw/handcal//NONSGML v1.0//EN
BEGIN:VEVENT
SUMMARY:CDC veteran equipe 2 4eme division Poule E
UID:0aecce1e-0b82-4d2c-9aa3-016d01631223
DTSTART:20260512T063000Z
DTEND:20260512T160000Z
LOCATION:Localisation Rue du Stade 86340 Les Roches Premaries
CATEGORIES:Sportif
STATUS:
DESCRIPTION:<p>Contre Chauvigny le matin et Saint-Martin
 l'apres-midi</p>
URL;VALUE=URI:https://www.esbuxerollespetanque.com/evenements/2026/05/12/cdc-veteran-equipe-2-4eme-division-poule-e-2434357
END:VEVENT
END:VCALENDAR
