BEGIN:VCALENDAR
VERSION:2.0
PRODID:-//hacksw/handcal//NONSGML v1.0//EN
BEGIN:VEVENT
SUMMARY:CDC Veteran equipe 1 3eme division Poule D
UID:0bebd423-81cd-4f9c-9f5e-05538485095d
DTSTART:20260526T063000Z
DTEND:20260526T160000Z
LOCATION:Localisation Rue des Ecoles 86130 Jaunay-Clan
CATEGORIES:Sportif
STATUS:
DESCRIPTION:<p>A Jaunay Clan contre Montmorillon le matin et Nouaille
 l'apres-midi</p>
URL;VALUE=URI:https://www.esbuxerollespetanque.com/evenements/2026/05/26/cdc-veteran-equipe-1-3eme-division-poule-d-2419223
END:VEVENT
END:VCALENDAR
