BEGIN:VCALENDAR
VERSION:2.0
PRODID:-//hacksw/handcal//NONSGML v1.0//EN
BEGIN:VEVENT
SUMMARY:CDC Veteran equipe 2 4eme division Poule E
UID:a0128cf6-ce96-4271-a661-80e65a2325ed
DTSTART:20260526T063000Z
DTEND:20260526T160000Z
LOCATION:Localisation Route de Belabre 86290 La Trimouille
CATEGORIES:Sportif
STATUS:
DESCRIPTION:<p>A La Trimouille contre Nouaille le matin et Loudun
 l'apres-midi</p>
URL;VALUE=URI:https://www.esbuxerollespetanque.com/evenements/2026/05/26/cdc-veteran-equipe-2-4eme-division-poule-e-2434367
END:VEVENT
END:VCALENDAR
