BEGIN:VCALENDAR
VERSION:2.0
PRODID:-//hacksw/handcal//NONSGML v1.0//EN
BEGIN:VEVENT
SUMMARY:CDC Veteran equipe 3 4eme division Poule D
UID:50bb5988-0176-4058-b552-5b1b485df044
DTSTART:20260526T113000Z
DTEND:20260526T160000Z
LOCATION:Localisation Rue des Ecoles 86130 Jaunay Clan
CATEGORIES:Sportif
STATUS:
DESCRIPTION:<p>A Jaunay Clan l'apres-midi contre Les Roches (exempt
 le matin)</p>
URL;VALUE=URI:https://www.esbuxerollespetanque.com/evenements/2026/05/26/cdc-veteran-equipe-3-4eme-division-poule-d-2434368
END:VEVENT
END:VCALENDAR
