BEGIN:VCALENDAR
VERSION:2.0
PRODID:-//hacksw/handcal//NONSGML v1.0//EN
BEGIN:VEVENT
SUMMARY:CDC Senior equipe 1 3eme division Poule A
UID:b82afd18-75d4-4898-be77-e10e2e73f0eb
DTSTART:20260613T063000Z
DTEND:20260613T160000Z
LOCATION:Localisation Place du mail 86110 Mirebeau
CATEGORIES:Sportif
STATUS:
DESCRIPTION:<p>Contre Sanxay le matin et Gouex l'apres-midi</p>
URL;VALUE=URI:https://www.esbuxerollespetanque.com/evenements/2026/06/13/cdc-senior-equipe-1-3eme-division-poule-a-2419203
END:VEVENT
END:VCALENDAR
