BEGIN:VCALENDAR
VERSION:2.0
PRODID:-//hacksw/handcal//NONSGML v1.0//EN
BEGIN:VEVENT
SUMMARY:CDC senior equipe 2 4eme division Poule G
UID:8aacf9d5-3b1a-4e40-b686-a5fa7d2f5254
DTSTART:20260613T063000Z
DTEND:20260613T160000Z
LOCATION:Localisation Place du Mail 86110 Mirebeau
CATEGORIES:Sportif
STATUS:
DESCRIPTION:<p>Contre Lussac le matin et Loudun l'apres-midi</p>
URL;VALUE=URI:https://www.esbuxerollespetanque.com/evenements/2026/06/13/cdc-senior-equipe-2-4eme-division-poule-g-2434227
END:VEVENT
END:VCALENDAR
