BEGIN:VCALENDAR
VERSION:2.0
PRODID:-//hacksw/handcal//NONSGML v1.0//EN
BEGIN:VEVENT
SUMMARY:CDC senior equipe 3 4eme division Poule F
UID:f3112dc8-81bd-4466-b5ec-8635ffd0be85
DTSTART:20260613T063000Z
DTEND:20260613T160000Z
LOCATION:Localisation Rue de Jupiter 86240 Fontaine
CATEGORIES:Sportif
STATUS:
DESCRIPTION:<p>Contre Montamise le matin et Yversay l'apres-midi</p>
URL;VALUE=URI:https://www.esbuxerollespetanque.com/evenements/2026/06/13/cdc-senior-equipe-3-4eme-division-poule-f-2434351
END:VEVENT
END:VCALENDAR
