BEGIN:VCALENDAR
VERSION:2.0
PRODID:-//hacksw/handcal//NONSGML v1.0//EN
BEGIN:VEVENT
SUMMARY:CDC senior equipe 4 4eme division Poule D
UID:1744b748-ce1c-4eb3-8910-2ec3bdf65074
DTSTART:20260613T063000Z
DTEND:20260613T160000Z
LOCATION:Localisation Salle des Fetes 86600 Sanxay
CATEGORIES:Sportif
STATUS:
DESCRIPTION:<p>Contre Montamise le matin et Sanxay l'apres-midi</p>
URL;VALUE=URI:https://www.esbuxerollespetanque.com/evenements/2026/06/13/cdc-senior-equipe-4-4eme-division-poule-d-2434352
END:VEVENT
END:VCALENDAR
