BEGIN:VCALENDAR
VERSION:2.0
PRODID:-//hacksw/handcal//NONSGML v1.0//EN
BEGIN:VEVENT
SUMMARY:CDC Veteran equipe 1 3eme division Poule D
UID:548f9cc5-c2d4-4648-b86a-b78bc4798f3d
DTSTART:20260616T063000Z
DTEND:20260616T160000Z
LOCATION:Localisation Residence de La Perusserie 86100 Targe
CATEGORIES:Sportif
STATUS:
DESCRIPTION:<p>A Targe contre Saint Martin le matin et Targe
 l'apres-midi</p>
URL;VALUE=URI:https://www.esbuxerollespetanque.com/evenements/2026/06/16/cdc-veteran-equipe-1-3eme-division-poule-d-2419224
END:VEVENT
END:VCALENDAR
