BEGIN:VCALENDAR
VERSION:2.0
PRODID:-//hacksw/handcal//NONSGML v1.0//EN
BEGIN:VEVENT
SUMMARY:CDC veteran equipe 2 4eme division Poule E
UID:2b35011f-9962-4a66-add0-cbc8d75e5cc3
DTSTART:20260616T063000Z
DTEND:20260616T100000Z
LOCATION:Localisation Rue de Sainte Maur 86170 Cisse
CATEGORIES:Sportif
STATUS:
DESCRIPTION:<p>A Cisse le matin contre Vouneuil (pas de match
 l'apres-midi)</p>
URL;VALUE=URI:https://www.esbuxerollespetanque.com/evenements/2026/06/16/cdc-veteran-equipe-2-4eme-division-poule-e-2439447
END:VEVENT
END:VCALENDAR
