BEGIN:VCALENDAR
VERSION:2.0
PRODID:-//hacksw/handcal//NONSGML v1.0//EN
BEGIN:VEVENT
SUMMARY:CDC veteran equipe 3 4eme division Poule D
UID:2636beac-56ee-4d98-bae9-056297f4ef83
DTSTART:20260616T063000Z
DTEND:20260616T160000Z
LOCATION:Localisation Rue du Stade 86220 Ingrandes
CATEGORIES:Sportif
STATUS:
DESCRIPTION:<p>A Ingrandes contre Loudun le matin et Sanxay
 l'apres-midi</p>
URL;VALUE=URI:https://www.esbuxerollespetanque.com/evenements/2026/06/16/cdc-veteran-equipe-3-4eme-division-poule-d-2439449
END:VEVENT
END:VCALENDAR
